BEGIN:VCALENDAR
VERSION:2.0
PRODID:-//Pediatric Hand Study Group - ECPv6.15.8//NONSGML v1.0//EN
CALSCALE:GREGORIAN
METHOD:PUBLISH
X-WR-CALNAME:Pediatric Hand Study Group
X-ORIGINAL-URL:https://pediatrichandstudygroup.org
X-WR-CALDESC:Events for Pediatric Hand Study Group
REFRESH-INTERVAL;VALUE=DURATION:PT1H
X-Robots-Tag:noindex
X-PUBLISHED-TTL:PT1H
BEGIN:VTIMEZONE
TZID:UTC
BEGIN:STANDARD
TZOFFSETFROM:+0000
TZOFFSETTO:+0000
TZNAME:UTC
DTSTART:20250101T000000
END:STANDARD
END:VTIMEZONE
BEGIN:VEVENT
DTSTART;TZID=UTC:20260424T070000
DTEND;TZID=UTC:20260425T130000
DTSTAMP:20260422T120141
CREATED:20241221T172653Z
LAST-MODIFIED:20260421T162738Z
UID:1403-1777014000-1777122000@pediatrichandstudygroup.org
SUMMARY:2026 Annual Meeting
DESCRIPTION:Venue and Local Host: \nThe annual meeting will be held at Children’s Healthcare of Atlanta in Atlanta\, GA and hosted by member Allan Peljovich\, MD \nProgram Chairs: \nEugene Park\, MD (Shriners Children’s Philadelphia)\nMargaret Cooke\, MD (Stanford Medicine)\nJennifer Chan\, OTR/L\, CHT (Stanford Medicine)\n(Stanford)\nBrief Agenda: \n\nThursday\, April 23rd\, 2026: Evening Social Meet-up for early arrivals 6 PM\nFriday\, April 24th\, 2026: Academic Program 7 AM – 4 PM\, Evening social event provided in the agenda\nSaturday\, April 25th\, 2026:  Academic Program 7 AM – 1 PM\n\n\nAnnual Meeting Registration Costs\nSurgeon Member – $150.00\nSurgeon Non-Member – $500.00\nTherapist Member – $100.00\nTherapist Non-Member – $250.00\nAll Other Attendees – $250.00\nPlease click below to view the agenda: \nPHSG 2026 Annual Meeting Agenda
URL:https://pediatrichandstudygroup.org/event/annual-meeting/
ORGANIZER;CN="Pediatric Hand Study Group":MAILTO:phandstudygroup@outlook.com
END:VEVENT
END:VCALENDAR